BEGIN:VCALENDAR
VERSION:2.0
PRODID:-//Plone.org//NONSGML plone.app.event//EN
X-WR-TIMEZONE:Asia/Taipei
BEGIN:VEVENT
SUMMARY:台南府城下林建安宮天上聖母開光繞境暨列位尊神
 安座大典
DTSTART;TZID=Asia/Taipei;VALUE=DATE-TIME:20120714T063000
DTEND;TZID=Asia/Taipei;VALUE=DATE-TIME:20120715T200000
DTSTAMP;VALUE=DATE-TIME:20260420T205437Z
UID:d9fe99b90127566f8089648368da6f4d@140.109.160.12:8090
CREATED;VALUE=DATE-TIME:20120713T094334Z
DESCRIPTION:2012年7月14日~15日台南府城下林建安宮中壇元帥
 祈安出巡遶境。不定期舉辦。
LAST-MODIFIED;VALUE=DATE-TIME:20180901T045408Z
LOCATION:台南市南區
URL:https://crgis.rchss.sinica.edu.tw/info/festival/20120714-15
END:VEVENT
BEGIN:VTIMEZONE
TZID:Asia/Taipei
X-LIC-LOCATION:Asia/Taipei
BEGIN:STANDARD
DTSTART;VALUE=DATE-TIME:19790930T230000
TZNAME:CST
TZOFFSETFROM:+0900
TZOFFSETTO:+0800
END:STANDARD
END:VTIMEZONE
END:VCALENDAR
