BEGIN:VCALENDAR
VERSION:2.0
PRODID:-//Plone.org//NONSGML plone.app.event//EN
X-WR-TIMEZONE:Asia/Taipei
BEGIN:VEVENT
SUMMARY:台南市普濟殿境後花園和勝堂壬辰年科王獻祈安大
 典
DTSTART;TZID=Asia/Taipei;VALUE=DATE-TIME:20120526T000000
DTEND;TZID=Asia/Taipei;VALUE=DATE-TIME:20121010T000000
DTSTAMP;VALUE=DATE-TIME:20260426T055546Z
UID:a5c15b4caf1d974969b49a1078c582bd@140.109.160.12:8090
CREATED;VALUE=DATE-TIME:20120716T081342Z
DESCRIPTION:台南市普濟殿境後花園和勝堂壬辰年科王獻祈
 安大典。十二年一科。
LAST-MODIFIED;VALUE=DATE-TIME:20180901T051606Z
LOCATION:台南市中西區
URL:https://crgis.rchss.sinica.edu.tw/info/festival/20120526-1007
END:VEVENT
BEGIN:VTIMEZONE
TZID:Asia/Taipei
X-LIC-LOCATION:Asia/Taipei
BEGIN:STANDARD
DTSTART;VALUE=DATE-TIME:19790930T230000
TZNAME:CST
TZOFFSETFROM:+0900
TZOFFSETTO:+0800
END:STANDARD
END:VTIMEZONE
END:VCALENDAR
