BEGIN:VCALENDAR
VERSION:2.0
PRODID:-//Plone.org//NONSGML plone.app.event//EN
X-WR-TIMEZONE:Asia/Taipei
BEGIN:VEVENT
SUMMARY:新埔義民節
DTSTART;VALUE=DATE-TIME:20090905T160000Z
DTEND;VALUE=DATE-TIME:20090908T040000Z
DTSTAMP;VALUE=DATE-TIME:20260426T025037Z
UID:2e33537f5dce4538ab652c47d824fa3a@140.109.160.12:8090
CATEGORIES:民俗廟會
CREATED;VALUE=DATE-TIME:20180202T035056Z
DESCRIPTION:[農曆]07月18日～07月20日
LAST-MODIFIED;VALUE=DATE-TIME:20180621T095117Z
LOCATION:新竹縣新埔鎮枋寮義民廟
URL:https://crgis.rchss.sinica.edu.tw/assets/intangible/folklore/65b057d47
 fa96c117bc0
END:VEVENT
END:VCALENDAR
