BEGIN:VCALENDAR
VERSION:2.0
PRODID:-//Plone.org//NONSGML plone.app.event//EN
X-WR-TIMEZONE:Asia/Taipei
BEGIN:VEVENT
SUMMARY:大稻埕霞海城隍祭
DTSTART;VALUE=DATE-TIME:20090602T160000Z
DTEND;VALUE=DATE-TIME:20090605T040000Z
DTSTAMP;VALUE=DATE-TIME:20260420T185551Z
UID:946a541dc53a42868bceb5ce96d0a99f@140.109.160.12:8090
CATEGORIES:民俗廟會
CREATED;VALUE=DATE-TIME:20180202T035057Z
DESCRIPTION:[農曆]05月11日～05月13日
LAST-MODIFIED;VALUE=DATE-TIME:20180621T095117Z
LOCATION:台北市大同區迪化街一段61號大稻埕霞海城隍廟
URL:https://crgis.rchss.sinica.edu.tw/assets/intangible/folklore/59277a3b5
 7d5971e6d7757ce968d796d
END:VEVENT
END:VCALENDAR
