BEGIN:VCALENDAR
VERSION:2.0
PRODID:-//Plone.org//NONSGML plone.app.event//EN
X-WR-TIMEZONE:Asia/Taipei
BEGIN:VEVENT
SUMMARY:北港媽祖繞境
DTSTART;VALUE=DATE-TIME:20090413T160000Z
DTEND;VALUE=DATE-TIME:20090415T040000Z
DTSTAMP;VALUE=DATE-TIME:20260425T093254Z
UID:51a1391b71904f1c83d65aa52754141e@140.109.160.12:8090
CATEGORIES:民俗廟會
CREATED;VALUE=DATE-TIME:20180202T035058Z
DESCRIPTION:[農曆]03月19日～03月20日
LAST-MODIFIED;VALUE=DATE-TIME:20180621T095117Z
LOCATION:雲林縣北港鎮中山路178號朝天宮
URL:https://crgis.rchss.sinica.edu.tw/assets/intangible/folklore/53176e2f5
 abd79567e5e5883
END:VEVENT
END:VCALENDAR
