BEGIN:VCALENDAR
VERSION:2.0
PRODID:-//Plone.org//NONSGML plone.app.event//EN
X-WR-TIMEZONE:Asia/Taipei
BEGIN:VEVENT
SUMMARY:佳里金唐殿王醮
DTSTART;VALUE=DATE-TIME:20090211T160000Z
DTEND;VALUE=DATE-TIME:20090214T040000Z
DTSTAMP;VALUE=DATE-TIME:20260426T114936Z
UID:092eef33d6fa4d048c5ce2ae58aa115c@140.109.160.12:8090
CATEGORIES:民俗廟會
CREATED;VALUE=DATE-TIME:20180202T035101Z
DESCRIPTION:[農曆]01月18日～01月20日
LAST-MODIFIED;VALUE=DATE-TIME:20180621T095126Z
LOCATION:台南縣佳里鎮金唐殿
URL:https://crgis.rchss.sinica.edu.tw/assets/intangible/folklore/4f7391cc9
 1d155106bbf738b91ae
END:VEVENT
END:VCALENDAR
